BEGIN:VCALENDAR
VERSION:2.0
PRODID:-//Gymnastikens Hus i Alingsås - ECPv6.15.15//NONSGML v1.0//EN
CALSCALE:GREGORIAN
METHOD:PUBLISH
X-WR-CALNAME:Gymnastikens Hus i Alingsås
X-ORIGINAL-URL:https://gymnastikenshus.se
X-WR-CALDESC:Händelser för Gymnastikens Hus i Alingsås
REFRESH-INTERVAL;VALUE=DURATION:PT1H
X-Robots-Tag:noindex
X-PUBLISHED-TTL:PT1H
BEGIN:VTIMEZONE
TZID:Europe/Helsinki
BEGIN:DAYLIGHT
TZOFFSETFROM:+0200
TZOFFSETTO:+0300
TZNAME:EEST
DTSTART:20250330T010000
END:DAYLIGHT
BEGIN:STANDARD
TZOFFSETFROM:+0300
TZOFFSETTO:+0200
TZNAME:EET
DTSTART:20251026T010000
END:STANDARD
BEGIN:DAYLIGHT
TZOFFSETFROM:+0200
TZOFFSETTO:+0300
TZNAME:EEST
DTSTART:20260329T010000
END:DAYLIGHT
BEGIN:STANDARD
TZOFFSETFROM:+0300
TZOFFSETTO:+0200
TZNAME:EET
DTSTART:20261025T010000
END:STANDARD
BEGIN:DAYLIGHT
TZOFFSETFROM:+0200
TZOFFSETTO:+0300
TZNAME:EEST
DTSTART:20270328T010000
END:DAYLIGHT
BEGIN:STANDARD
TZOFFSETFROM:+0300
TZOFFSETTO:+0200
TZNAME:EET
DTSTART:20271031T010000
END:STANDARD
END:VTIMEZONE
BEGIN:VEVENT
DTSTART;TZID=Europe/Helsinki:20260121T100000
DTEND;TZID=Europe/Helsinki:20260121T113000
DTSTAMP:20260421T120028
CREATED:20251212T063831Z
LAST-MODIFIED:20260115T101257Z
UID:3204-1768989600-1768995000@gymnastikenshus.se
SUMMARY:Seniorgymnastik
DESCRIPTION:Seniorgymnastik AIF Gymnastik
URL:https://gymnastikenshus.se/index.php/aktivitet/seniorgymnastik-hall-1-2/
LOCATION:Hall 1 och Cafeterian
END:VEVENT
BEGIN:VEVENT
DTSTART;TZID=Europe/Helsinki:20260121T153000
DTEND;TZID=Europe/Helsinki:20260121T200000
DTSTAMP:20260421T120028
CREATED:20251212T060445Z
LAST-MODIFIED:20251212T060446Z
UID:3153-1769009400-1769025600@gymnastikenshus.se
SUMMARY:Gymnastikträning Hall 1
DESCRIPTION:
URL:https://gymnastikenshus.se/index.php/aktivitet/gymnastiktraning-hall-1-11/
LOCATION:Hall 1
END:VEVENT
BEGIN:VEVENT
DTSTART;TZID=Europe/Helsinki:20260121T164500
DTEND;TZID=Europe/Helsinki:20260121T193000
DTSTAMP:20260421T120028
CREATED:20251212T060616Z
LAST-MODIFIED:20260126T205113Z
UID:3155-1769013900-1769023800@gymnastikenshus.se
SUMMARY:Gymnastikträning Hall 2
DESCRIPTION:
URL:https://gymnastikenshus.se/index.php/aktivitet/gymnastiktraning-hall-2-9/
LOCATION:Hall 2
END:VEVENT
BEGIN:VEVENT
DTSTART;TZID=Europe/Helsinki:20260121T173000
DTEND;TZID=Europe/Helsinki:20260121T181500
DTSTAMP:20260421T120028
CREATED:20260116T100259Z
LAST-MODIFIED:20260116T100259Z
UID:3432-1769016600-1769019300@gymnastikenshus.se
SUMMARY:Bokat
DESCRIPTION:Föräldramöte trupp Blå safir
URL:https://gymnastikenshus.se/index.php/aktivitet/bokat-23/
LOCATION:Cafeteria
END:VEVENT
END:VCALENDAR