BEGIN:VCALENDAR
VERSION:2.0
PRODID:-//Gymnastikens Hus i Alingsås - ECPv6.15.15//NONSGML v1.0//EN
CALSCALE:GREGORIAN
METHOD:PUBLISH
X-ORIGINAL-URL:https://gymnastikenshus.se
X-WR-CALDESC:Händelser för Gymnastikens Hus i Alingsås
REFRESH-INTERVAL;VALUE=DURATION:PT1H
X-Robots-Tag:noindex
X-PUBLISHED-TTL:PT1H
BEGIN:VTIMEZONE
TZID:Europe/Helsinki
BEGIN:DAYLIGHT
TZOFFSETFROM:+0200
TZOFFSETTO:+0300
TZNAME:EEST
DTSTART:20250330T010000
END:DAYLIGHT
BEGIN:STANDARD
TZOFFSETFROM:+0300
TZOFFSETTO:+0200
TZNAME:EET
DTSTART:20251026T010000
END:STANDARD
BEGIN:DAYLIGHT
TZOFFSETFROM:+0200
TZOFFSETTO:+0300
TZNAME:EEST
DTSTART:20260329T010000
END:DAYLIGHT
BEGIN:STANDARD
TZOFFSETFROM:+0300
TZOFFSETTO:+0200
TZNAME:EET
DTSTART:20261025T010000
END:STANDARD
BEGIN:DAYLIGHT
TZOFFSETFROM:+0200
TZOFFSETTO:+0300
TZNAME:EEST
DTSTART:20270328T010000
END:DAYLIGHT
BEGIN:STANDARD
TZOFFSETFROM:+0300
TZOFFSETTO:+0200
TZNAME:EET
DTSTART:20271031T010000
END:STANDARD
END:VTIMEZONE
BEGIN:VEVENT
DTSTART;TZID=Europe/Helsinki:20260224T123000
DTEND;TZID=Europe/Helsinki:20260224T133000
DTSTAMP:20260421T131727
CREATED:20260123T084021Z
LAST-MODIFIED:20260123T084022Z
UID:3793-1771936200-1771939800@gymnastikenshus.se
SUMMARY:Uthyrt Hall 1
DESCRIPTION:Uthyrt till skola med med ledare VG
URL:https://gymnastikenshus.se/index.php/aktivitet/uthyrt-hall-1-2/
LOCATION:Hall 1
END:VEVENT
BEGIN:VEVENT
DTSTART;TZID=Europe/Helsinki:20260224T160000
DTEND;TZID=Europe/Helsinki:20260224T203000
DTSTAMP:20260421T131727
CREATED:20260115T103244Z
LAST-MODIFIED:20260115T103245Z
UID:3376-1771948800-1771965000@gymnastikenshus.se
SUMMARY:Gymnastikträning Hall 1
DESCRIPTION:
URL:https://gymnastikenshus.se/index.php/aktivitet/gymnastiktraning-hall-1-39/
LOCATION:Hall 1
END:VEVENT
BEGIN:VEVENT
DTSTART;TZID=Europe/Helsinki:20260224T170000
DTEND;TZID=Europe/Helsinki:20260224T203000
DTSTAMP:20260421T131727
CREATED:20260115T103341Z
LAST-MODIFIED:20260126T201724Z
UID:3378-1771952400-1771965000@gymnastikenshus.se
SUMMARY:Gymnastikträning Hall 2
DESCRIPTION:
URL:https://gymnastikenshus.se/index.php/aktivitet/gymnastiktraning-hall-2-30/
LOCATION:Hall 2
END:VEVENT
BEGIN:VEVENT
DTSTART;TZID=Europe/Helsinki:20260224T183000
DTEND;TZID=Europe/Helsinki:20260224T190000
DTSTAMP:20260421T131727
CREATED:20260127T182100Z
LAST-MODIFIED:20260127T182101Z
UID:3843-1771957800-1771959600@gymnastikenshus.se
SUMMARY:Styrelsemöte GH
DESCRIPTION:
URL:https://gymnastikenshus.se/index.php/aktivitet/styrelsemote-gh-7/
LOCATION:Cafeteria
END:VEVENT
END:VCALENDAR