BEGIN:VCALENDAR
VERSION:2.0
PRODID:-//Gymnastikens Hus i Alingsås - ECPv6.15.15//NONSGML v1.0//EN
CALSCALE:GREGORIAN
METHOD:PUBLISH
X-WR-CALNAME:Gymnastikens Hus i Alingsås
X-ORIGINAL-URL:https://gymnastikenshus.se
X-WR-CALDESC:Händelser för Gymnastikens Hus i Alingsås
REFRESH-INTERVAL;VALUE=DURATION:PT1H
X-Robots-Tag:noindex
X-PUBLISHED-TTL:PT1H
BEGIN:VTIMEZONE
TZID:Europe/Helsinki
BEGIN:DAYLIGHT
TZOFFSETFROM:+0200
TZOFFSETTO:+0300
TZNAME:EEST
DTSTART:20250330T010000
END:DAYLIGHT
BEGIN:STANDARD
TZOFFSETFROM:+0300
TZOFFSETTO:+0200
TZNAME:EET
DTSTART:20251026T010000
END:STANDARD
BEGIN:DAYLIGHT
TZOFFSETFROM:+0200
TZOFFSETTO:+0300
TZNAME:EEST
DTSTART:20260329T010000
END:DAYLIGHT
BEGIN:STANDARD
TZOFFSETFROM:+0300
TZOFFSETTO:+0200
TZNAME:EET
DTSTART:20261025T010000
END:STANDARD
BEGIN:DAYLIGHT
TZOFFSETFROM:+0200
TZOFFSETTO:+0300
TZNAME:EEST
DTSTART:20270328T010000
END:DAYLIGHT
BEGIN:STANDARD
TZOFFSETFROM:+0300
TZOFFSETTO:+0200
TZNAME:EET
DTSTART:20271031T010000
END:STANDARD
END:VTIMEZONE
BEGIN:VEVENT
DTSTART;TZID=Europe/Helsinki:20260315T083000
DTEND;TZID=Europe/Helsinki:20260315T200000
DTSTAMP:20260421T114309
CREATED:20260120T102609Z
LAST-MODIFIED:20260120T102610Z
UID:3466-1773563400-1773604800@gymnastikenshus.se
SUMMARY:Gymnastikträning Hall 1
DESCRIPTION:
URL:https://gymnastikenshus.se/index.php/aktivitet/gymnastiktraning-hall-1-59/
LOCATION:Hall 1
END:VEVENT
BEGIN:VEVENT
DTSTART;TZID=Europe/Helsinki:20260315T100000
DTEND;TZID=Europe/Helsinki:20260315T193000
DTSTAMP:20260421T114309
CREATED:20260120T102735Z
LAST-MODIFIED:20260127T154232Z
UID:3468-1773568800-1773603000@gymnastikenshus.se
SUMMARY:Gymnastikträning Hall 2
DESCRIPTION:
URL:https://gymnastikenshus.se/index.php/aktivitet/gymnastiktraning-hall-2-46/
LOCATION:Hall 2
END:VEVENT
BEGIN:VEVENT
DTSTART;TZID=Europe/Helsinki:20260315T110000
DTEND;TZID=Europe/Helsinki:20260315T120000
DTSTAMP:20260421T114309
CREATED:20260309T142018Z
LAST-MODIFIED:20260309T142019Z
UID:3918-1773572400-1773576000@gymnastikenshus.se
SUMMARY:Bokat cafeterian
DESCRIPTION:Föräldramöte Kvag Bas Ros
URL:https://gymnastikenshus.se/index.php/aktivitet/bokat-cafeterian-2/
LOCATION:Cafeteria
END:VEVENT
END:VCALENDAR