BEGIN:VCALENDAR
VERSION:2.0
PRODID:-//Gymnastikens Hus i Alingsås - ECPv6.15.15//NONSGML v1.0//EN
CALSCALE:GREGORIAN
METHOD:PUBLISH
X-WR-CALNAME:Gymnastikens Hus i Alingsås
X-ORIGINAL-URL:https://gymnastikenshus.se
X-WR-CALDESC:Händelser för Gymnastikens Hus i Alingsås
REFRESH-INTERVAL;VALUE=DURATION:PT1H
X-Robots-Tag:noindex
X-PUBLISHED-TTL:PT1H
BEGIN:VTIMEZONE
TZID:Europe/Helsinki
BEGIN:DAYLIGHT
TZOFFSETFROM:+0200
TZOFFSETTO:+0300
TZNAME:EEST
DTSTART:20250330T010000
END:DAYLIGHT
BEGIN:STANDARD
TZOFFSETFROM:+0300
TZOFFSETTO:+0200
TZNAME:EET
DTSTART:20251026T010000
END:STANDARD
BEGIN:DAYLIGHT
TZOFFSETFROM:+0200
TZOFFSETTO:+0300
TZNAME:EEST
DTSTART:20260329T010000
END:DAYLIGHT
BEGIN:STANDARD
TZOFFSETFROM:+0300
TZOFFSETTO:+0200
TZNAME:EET
DTSTART:20261025T010000
END:STANDARD
BEGIN:DAYLIGHT
TZOFFSETFROM:+0200
TZOFFSETTO:+0300
TZNAME:EEST
DTSTART:20270328T010000
END:DAYLIGHT
BEGIN:STANDARD
TZOFFSETFROM:+0300
TZOFFSETTO:+0200
TZNAME:EET
DTSTART:20271031T010000
END:STANDARD
END:VTIMEZONE
BEGIN:VEVENT
DTSTART;TZID=Europe/Helsinki:20260323T110000
DTEND;TZID=Europe/Helsinki:20260323T120000
DTSTAMP:20260421T114310
CREATED:20260105T183340Z
LAST-MODIFIED:20260105T183341Z
UID:3289-1774263600-1774267200@gymnastikenshus.se
SUMMARY:Seniorgymnastik
DESCRIPTION:Seniorgymnastik SPF Hjorten
URL:https://gymnastikenshus.se/index.php/aktivitet/seniorgymnastik-79/
LOCATION:Hall 2
END:VEVENT
BEGIN:VEVENT
DTSTART;TZID=Europe/Helsinki:20260323T160000
DTEND;TZID=Europe/Helsinki:20260323T190000
DTSTAMP:20260421T114310
CREATED:20260120T105824Z
LAST-MODIFIED:20260126T154004Z
UID:3503-1774281600-1774292400@gymnastikenshus.se
SUMMARY:Gymnastikträning Hall 2
DESCRIPTION:
URL:https://gymnastikenshus.se/index.php/aktivitet/gymnastiktraning-hall-2-53/
LOCATION:Hall 2
END:VEVENT
BEGIN:VEVENT
DTSTART;TZID=Europe/Helsinki:20260323T160000
DTEND;TZID=Europe/Helsinki:20260323T220000
DTSTAMP:20260421T114310
CREATED:20260120T105722Z
LAST-MODIFIED:20260120T105722Z
UID:3501-1774281600-1774303200@gymnastikenshus.se
SUMMARY:Gymnastikträning Hall 1
DESCRIPTION:
URL:https://gymnastikenshus.se/index.php/aktivitet/gymnastiktraning-hall-1-67/
LOCATION:Hall 1
END:VEVENT
BEGIN:VEVENT
DTSTART;TZID=Europe/Helsinki:20260323T170000
DTEND;TZID=Europe/Helsinki:20260323T180000
DTSTAMP:20260421T114310
CREATED:20260323T101403Z
LAST-MODIFIED:20260323T101404Z
UID:3956-1774285200-1774288800@gymnastikenshus.se
SUMMARY:
DESCRIPTION:Ledarmöte
URL:https://gymnastikenshus.se/index.php/aktivitet/3956/
LOCATION:Cafeteria
END:VEVENT
BEGIN:VEVENT
DTSTART;TZID=Europe/Helsinki:20260323T203000
DTEND;TZID=Europe/Helsinki:20260323T213000
DTSTAMP:20260421T114310
CREATED:20260303T154724Z
LAST-MODIFIED:20260303T154724Z
UID:3899-1774297800-1774301400@gymnastikenshus.se
SUMMARY:Fotboll Hall 2
DESCRIPTION:
URL:https://gymnastikenshus.se/index.php/aktivitet/fotboll-hall-2/
LOCATION:Hall 2
END:VEVENT
END:VCALENDAR