BEGIN:VCALENDAR
VERSION:2.0
PRODID:-//Gymnastikens Hus i Alingsås - ECPv6.15.15//NONSGML v1.0//EN
CALSCALE:GREGORIAN
METHOD:PUBLISH
X-ORIGINAL-URL:https://gymnastikenshus.se
X-WR-CALDESC:Händelser för Gymnastikens Hus i Alingsås
REFRESH-INTERVAL;VALUE=DURATION:PT1H
X-Robots-Tag:noindex
X-PUBLISHED-TTL:PT1H
BEGIN:VTIMEZONE
TZID:Europe/Helsinki
BEGIN:DAYLIGHT
TZOFFSETFROM:+0200
TZOFFSETTO:+0300
TZNAME:EEST
DTSTART:20250330T010000
END:DAYLIGHT
BEGIN:STANDARD
TZOFFSETFROM:+0300
TZOFFSETTO:+0200
TZNAME:EET
DTSTART:20251026T010000
END:STANDARD
BEGIN:DAYLIGHT
TZOFFSETFROM:+0200
TZOFFSETTO:+0300
TZNAME:EEST
DTSTART:20260329T010000
END:DAYLIGHT
BEGIN:STANDARD
TZOFFSETFROM:+0300
TZOFFSETTO:+0200
TZNAME:EET
DTSTART:20261025T010000
END:STANDARD
BEGIN:DAYLIGHT
TZOFFSETFROM:+0200
TZOFFSETTO:+0300
TZNAME:EEST
DTSTART:20270328T010000
END:DAYLIGHT
BEGIN:STANDARD
TZOFFSETFROM:+0300
TZOFFSETTO:+0200
TZNAME:EET
DTSTART:20271031T010000
END:STANDARD
END:VTIMEZONE
BEGIN:VEVENT
DTSTART;TZID=Europe/Helsinki:20260520T100000
DTEND;TZID=Europe/Helsinki:20260520T113000
DTSTAMP:20260420T143930
CREATED:20260121T133323Z
LAST-MODIFIED:20260121T133324Z
UID:3726-1779271200-1779276600@gymnastikenshus.se
SUMMARY:Seniorgymnastik
DESCRIPTION:Seniorgymnastik AIF Gymnastik
URL:https://gymnastikenshus.se/index.php/aktivitet/seniorgymnastik-98/
LOCATION:Hall 1
END:VEVENT
BEGIN:VEVENT
DTSTART;TZID=Europe/Helsinki:20260520T150000
DTEND;TZID=Europe/Helsinki:20260520T200000
DTSTAMP:20260420T143930
CREATED:20260121T133105Z
LAST-MODIFIED:20260121T133106Z
UID:3722-1779289200-1779307200@gymnastikenshus.se
SUMMARY:Gymnastikträning Hall 1
DESCRIPTION:
URL:https://gymnastikenshus.se/index.php/aktivitet/gymnastiktraning-hall-1-116/
LOCATION:Hall 1
END:VEVENT
BEGIN:VEVENT
DTSTART;TZID=Europe/Helsinki:20260520T164500
DTEND;TZID=Europe/Helsinki:20260520T193000
DTSTAMP:20260420T143930
CREATED:20260121T133201Z
LAST-MODIFIED:20260126T205817Z
UID:3724-1779295500-1779305400@gymnastikenshus.se
SUMMARY:Gymnastikträning Hall 2
DESCRIPTION:
URL:https://gymnastikenshus.se/index.php/aktivitet/gymnastiktraning-hall-2-98/
LOCATION:Hall 2
END:VEVENT
END:VCALENDAR