BEGIN:VCALENDAR
VERSION:2.0
PRODID:-//Gymnastikens Hus i Alingsås - ECPv6.15.15//NONSGML v1.0//EN
CALSCALE:GREGORIAN
METHOD:PUBLISH
X-WR-CALNAME:Gymnastikens Hus i Alingsås
X-ORIGINAL-URL:https://gymnastikenshus.se
X-WR-CALDESC:Händelser för Gymnastikens Hus i Alingsås
REFRESH-INTERVAL;VALUE=DURATION:PT1H
X-Robots-Tag:noindex
X-PUBLISHED-TTL:PT1H
BEGIN:VTIMEZONE
TZID:Europe/Helsinki
BEGIN:DAYLIGHT
TZOFFSETFROM:+0200
TZOFFSETTO:+0300
TZNAME:EEST
DTSTART:20250330T010000
END:DAYLIGHT
BEGIN:STANDARD
TZOFFSETFROM:+0300
TZOFFSETTO:+0200
TZNAME:EET
DTSTART:20251026T010000
END:STANDARD
BEGIN:DAYLIGHT
TZOFFSETFROM:+0200
TZOFFSETTO:+0300
TZNAME:EEST
DTSTART:20260329T010000
END:DAYLIGHT
BEGIN:STANDARD
TZOFFSETFROM:+0300
TZOFFSETTO:+0200
TZNAME:EET
DTSTART:20261025T010000
END:STANDARD
BEGIN:DAYLIGHT
TZOFFSETFROM:+0200
TZOFFSETTO:+0300
TZNAME:EEST
DTSTART:20270328T010000
END:DAYLIGHT
BEGIN:STANDARD
TZOFFSETFROM:+0300
TZOFFSETTO:+0200
TZNAME:EET
DTSTART:20271031T010000
END:STANDARD
END:VTIMEZONE
BEGIN:VEVENT
DTSTART;TZID=Europe/Helsinki:20260811T090000
DTEND;TZID=Europe/Helsinki:20260811T170000
DTSTAMP:20260420T193028
CREATED:20251126T132448Z
LAST-MODIFIED:20251126T132449Z
UID:3071-1786438800-1786467600@gymnastikenshus.se
SUMMARY:Lovskola
DESCRIPTION:
URL:https://gymnastikenshus.se/index.php/aktivitet/lovskola-2/
LOCATION:Hall 1\, Hall 2 och Cafeterian
END:VEVENT
END:VCALENDAR