BEGIN:VCALENDAR
VERSION:2.0
PRODID:-//Gymnastikens Hus i Alingsås - ECPv6.15.15//NONSGML v1.0//EN
CALSCALE:GREGORIAN
METHOD:PUBLISH
X-WR-CALNAME:Gymnastikens Hus i Alingsås
X-ORIGINAL-URL:https://gymnastikenshus.se
X-WR-CALDESC:Händelser för Gymnastikens Hus i Alingsås
REFRESH-INTERVAL;VALUE=DURATION:PT1H
X-Robots-Tag:noindex
X-PUBLISHED-TTL:PT1H
BEGIN:VTIMEZONE
TZID:Europe/Helsinki
BEGIN:DAYLIGHT
TZOFFSETFROM:+0200
TZOFFSETTO:+0300
TZNAME:EEST
DTSTART:20250330T010000
END:DAYLIGHT
BEGIN:STANDARD
TZOFFSETFROM:+0300
TZOFFSETTO:+0200
TZNAME:EET
DTSTART:20251026T010000
END:STANDARD
BEGIN:DAYLIGHT
TZOFFSETFROM:+0200
TZOFFSETTO:+0300
TZNAME:EEST
DTSTART:20260329T010000
END:DAYLIGHT
BEGIN:STANDARD
TZOFFSETFROM:+0300
TZOFFSETTO:+0200
TZNAME:EET
DTSTART:20261025T010000
END:STANDARD
BEGIN:DAYLIGHT
TZOFFSETFROM:+0200
TZOFFSETTO:+0300
TZNAME:EEST
DTSTART:20270328T010000
END:DAYLIGHT
BEGIN:STANDARD
TZOFFSETFROM:+0300
TZOFFSETTO:+0200
TZNAME:EET
DTSTART:20271031T010000
END:STANDARD
END:VTIMEZONE
BEGIN:VEVENT
DTSTART;TZID=Europe/Helsinki:20260924T080000
DTEND;TZID=Europe/Helsinki:20261003T150000
DTSTAMP:20260420T210852
CREATED:20260114T105941Z
LAST-MODIFIED:20260407T171204Z
UID:3344-1790236800-1791039600@gymnastikenshus.se
SUMMARY:Uthyrt
DESCRIPTION:Uthyrt till Alingsås Energi/ Lights in Alingsås/ CB/AS
URL:https://gymnastikenshus.se/index.php/aktivitet/prel-bokat/
LOCATION:Hall 2\, cafeterian och omkläd. dam Hall 1
END:VEVENT
END:VCALENDAR