BEGIN:VCALENDAR
VERSION:2.0
PRODID:-//Gymnastikens Hus i Alingsås - ECPv6.15.15//NONSGML v1.0//EN
CALSCALE:GREGORIAN
METHOD:PUBLISH
X-WR-CALNAME:Gymnastikens Hus i Alingsås
X-ORIGINAL-URL:https://gymnastikenshus.se
X-WR-CALDESC:Händelser för Gymnastikens Hus i Alingsås
REFRESH-INTERVAL;VALUE=DURATION:PT1H
X-Robots-Tag:noindex
X-PUBLISHED-TTL:PT1H
BEGIN:VTIMEZONE
TZID:Europe/Helsinki
BEGIN:DAYLIGHT
TZOFFSETFROM:+0200
TZOFFSETTO:+0300
TZNAME:EEST
DTSTART:20250330T010000
END:DAYLIGHT
BEGIN:STANDARD
TZOFFSETFROM:+0300
TZOFFSETTO:+0200
TZNAME:EET
DTSTART:20251026T010000
END:STANDARD
BEGIN:DAYLIGHT
TZOFFSETFROM:+0200
TZOFFSETTO:+0300
TZNAME:EEST
DTSTART:20260329T010000
END:DAYLIGHT
BEGIN:STANDARD
TZOFFSETFROM:+0300
TZOFFSETTO:+0200
TZNAME:EET
DTSTART:20261025T010000
END:STANDARD
BEGIN:DAYLIGHT
TZOFFSETFROM:+0200
TZOFFSETTO:+0300
TZNAME:EEST
DTSTART:20270328T010000
END:DAYLIGHT
BEGIN:STANDARD
TZOFFSETFROM:+0300
TZOFFSETTO:+0200
TZNAME:EET
DTSTART:20271031T010000
END:STANDARD
END:VTIMEZONE
BEGIN:VEVENT
DTSTART;TZID=Europe/Helsinki:20260823T090000
DTEND;TZID=Europe/Helsinki:20260823T170000
DTSTAMP:20260420T211914
CREATED:20260317T082712Z
LAST-MODIFIED:20260317T082943Z
UID:3938-1787475600-1787504400@gymnastikenshus.se
SUMMARY:Utbildning Hall 1
DESCRIPTION:Utbildning KvAG/ GF Väst/ JG
URL:https://gymnastikenshus.se/index.php/aktivitet/utbildning-hall-1/
LOCATION:Hall 1 och Cafeterian
END:VEVENT
BEGIN:VEVENT
DTSTART;TZID=Europe/Helsinki:20260919T140000
DTEND;TZID=Europe/Helsinki:20260919T163000
DTSTAMP:20260420T211915
CREATED:20260401T141017Z
LAST-MODIFIED:20260401T141018Z
UID:3993-1789826400-1789835400@gymnastikenshus.se
SUMMARY:Uppvisning i Estrad
DESCRIPTION:Uppvisning i Estrad
URL:https://gymnastikenshus.se/index.php/aktivitet/uppvisning-i-estrad/
END:VEVENT
BEGIN:VEVENT
DTSTART;TZID=Europe/Helsinki:20260924T080000
DTEND;TZID=Europe/Helsinki:20261003T150000
DTSTAMP:20260420T211915
CREATED:20260114T105941Z
LAST-MODIFIED:20260407T171204Z
UID:3344-1790236800-1791039600@gymnastikenshus.se
SUMMARY:Uthyrt
DESCRIPTION:Uthyrt till Alingsås Energi/ Lights in Alingsås/ CB/AS
URL:https://gymnastikenshus.se/index.php/aktivitet/prel-bokat/
LOCATION:Hall 2\, cafeterian och omkläd. dam Hall 1
END:VEVENT
BEGIN:VEVENT
DTSTART;TZID=Europe/Helsinki:20261026T090000
DTEND;TZID=Europe/Helsinki:20261026T170000
DTSTAMP:20260420T211915
CREATED:20260401T140506Z
LAST-MODIFIED:20260401T140507Z
UID:3987-1793005200-1793034000@gymnastikenshus.se
SUMMARY:Höstlovskola
DESCRIPTION:
URL:https://gymnastikenshus.se/index.php/aktivitet/hostlovskola/
LOCATION:Hall 1\, Hall 2 och Cafeterian
END:VEVENT
BEGIN:VEVENT
DTSTART;TZID=Europe/Helsinki:20261027T090000
DTEND;TZID=Europe/Helsinki:20261027T170000
DTSTAMP:20260420T211915
CREATED:20260401T140615Z
LAST-MODIFIED:20260401T140615Z
UID:3989-1793091600-1793120400@gymnastikenshus.se
SUMMARY:Höstlovskola
DESCRIPTION:
URL:https://gymnastikenshus.se/index.php/aktivitet/hostlovskola-2/
LOCATION:Hall 1\, Hall 2 och Cafeterian
END:VEVENT
BEGIN:VEVENT
DTSTART;TZID=Europe/Helsinki:20261028T090000
DTEND;TZID=Europe/Helsinki:20261028T170000
DTSTAMP:20260420T211915
CREATED:20260401T140720Z
LAST-MODIFIED:20260401T140721Z
UID:3991-1793178000-1793206800@gymnastikenshus.se
SUMMARY:Höstlovskola
DESCRIPTION:
URL:https://gymnastikenshus.se/index.php/aktivitet/hostlovskola-3/
LOCATION:Hall 1\, Hall 2 och Cafeterian
END:VEVENT
BEGIN:VEVENT
DTSTART;TZID=Europe/Helsinki:20261213T090000
DTEND;TZID=Europe/Helsinki:20261213T180000
DTSTAMP:20260420T211915
CREATED:20260401T140356Z
LAST-MODIFIED:20260401T140357Z
UID:3985-1797152400-1797184800@gymnastikenshus.se
SUMMARY:Luciacupen
DESCRIPTION:Tävling Luciacupen
URL:https://gymnastikenshus.se/index.php/aktivitet/luciacupen/
LOCATION:Hall 1\, Hall 2 och Cafeterian
END:VEVENT
END:VCALENDAR