BEGIN:VCALENDAR
VERSION:2.0
PRODID:-//Gymnastikens Hus i Alingsås - ECPv6.15.15//NONSGML v1.0//EN
CALSCALE:GREGORIAN
METHOD:PUBLISH
X-ORIGINAL-URL:https://gymnastikenshus.se
X-WR-CALDESC:Händelser för Gymnastikens Hus i Alingsås
REFRESH-INTERVAL;VALUE=DURATION:PT1H
X-Robots-Tag:noindex
X-PUBLISHED-TTL:PT1H
BEGIN:VTIMEZONE
TZID:Europe/Helsinki
BEGIN:DAYLIGHT
TZOFFSETFROM:+0200
TZOFFSETTO:+0300
TZNAME:EEST
DTSTART:20250330T010000
END:DAYLIGHT
BEGIN:STANDARD
TZOFFSETFROM:+0300
TZOFFSETTO:+0200
TZNAME:EET
DTSTART:20251026T010000
END:STANDARD
BEGIN:DAYLIGHT
TZOFFSETFROM:+0200
TZOFFSETTO:+0300
TZNAME:EEST
DTSTART:20260329T010000
END:DAYLIGHT
BEGIN:STANDARD
TZOFFSETFROM:+0300
TZOFFSETTO:+0200
TZNAME:EET
DTSTART:20261025T010000
END:STANDARD
BEGIN:DAYLIGHT
TZOFFSETFROM:+0200
TZOFFSETTO:+0300
TZNAME:EEST
DTSTART:20270328T010000
END:DAYLIGHT
BEGIN:STANDARD
TZOFFSETFROM:+0300
TZOFFSETTO:+0200
TZNAME:EET
DTSTART:20271031T010000
END:STANDARD
END:VTIMEZONE
BEGIN:VEVENT
DTSTART;TZID=Europe/Helsinki:20260522T153000
DTEND;TZID=Europe/Helsinki:20260522T193000
DTSTAMP:20260420T162858
CREATED:20260121T133627Z
LAST-MODIFIED:20260121T133628Z
UID:3732-1779463800-1779478200@gymnastikenshus.se
SUMMARY:Gymnastikträning Hall 1
DESCRIPTION:
URL:https://gymnastikenshus.se/index.php/aktivitet/gymnastiktraning-hall-1-118/
LOCATION:Hall 1
END:VEVENT
BEGIN:VEVENT
DTSTART;TZID=Europe/Helsinki:20260523T090000
DTEND;TZID=Europe/Helsinki:20260523T113000
DTSTAMP:20260420T162858
CREATED:20260121T133802Z
LAST-MODIFIED:20260322T051202Z
UID:3736-1779526800-1779535800@gymnastikenshus.se
SUMMARY:Gymnastikträning Hall 2
DESCRIPTION:
URL:https://gymnastikenshus.se/index.php/aktivitet/gymnastiktraning-hall-2-100/
LOCATION:Hall 2
END:VEVENT
BEGIN:VEVENT
DTSTART;TZID=Europe/Helsinki:20260523T090000
DTEND;TZID=Europe/Helsinki:20260523T170000
DTSTAMP:20260420T162858
CREATED:20260121T133714Z
LAST-MODIFIED:20260121T133715Z
UID:3734-1779526800-1779555600@gymnastikenshus.se
SUMMARY:Gymnastikträning Hall 1
DESCRIPTION:
URL:https://gymnastikenshus.se/index.php/aktivitet/gymnastiktraning-hall-1-119/
LOCATION:Hall 1
END:VEVENT
BEGIN:VEVENT
DTSTART;TZID=Europe/Helsinki:20260524T083000
DTEND;TZID=Europe/Helsinki:20260524T200000
DTSTAMP:20260420T162858
CREATED:20260121T133855Z
LAST-MODIFIED:20260121T133856Z
UID:3738-1779611400-1779652800@gymnastikenshus.se
SUMMARY:Gymnastikträning Hall 1
DESCRIPTION:
URL:https://gymnastikenshus.se/index.php/aktivitet/gymnastiktraning-hall-1-120/
LOCATION:Hall 1
END:VEVENT
BEGIN:VEVENT
DTSTART;TZID=Europe/Helsinki:20260524T100000
DTEND;TZID=Europe/Helsinki:20260524T193000
DTSTAMP:20260420T162858
CREATED:20260121T134001Z
LAST-MODIFIED:20260127T154755Z
UID:3740-1779616800-1779651000@gymnastikenshus.se
SUMMARY:Gymnastikträning Hall 2
DESCRIPTION:
URL:https://gymnastikenshus.se/index.php/aktivitet/gymnastiktraning-hall-2-101/
LOCATION:Hall 2
END:VEVENT
BEGIN:VEVENT
DTSTART;TZID=Europe/Helsinki:20260525T160000
DTEND;TZID=Europe/Helsinki:20260525T190000
DTSTAMP:20260420T162858
CREATED:20260121T134155Z
LAST-MODIFIED:20260126T154538Z
UID:3744-1779724800-1779735600@gymnastikenshus.se
SUMMARY:Gymnastikträning Hall 2
DESCRIPTION:
URL:https://gymnastikenshus.se/index.php/aktivitet/gymnastiktraning-hall-2-102/
LOCATION:Hall 2
END:VEVENT
BEGIN:VEVENT
DTSTART;TZID=Europe/Helsinki:20260525T160000
DTEND;TZID=Europe/Helsinki:20260525T220000
DTSTAMP:20260420T162858
CREATED:20260121T134058Z
LAST-MODIFIED:20260121T134059Z
UID:3742-1779724800-1779746400@gymnastikenshus.se
SUMMARY:Gymnastikträning Hall 1
DESCRIPTION:
URL:https://gymnastikenshus.se/index.php/aktivitet/gymnastiktraning-hall-1-121/
LOCATION:Hall 1
END:VEVENT
BEGIN:VEVENT
DTSTART;TZID=Europe/Helsinki:20260526T160000
DTEND;TZID=Europe/Helsinki:20260526T203000
DTSTAMP:20260420T162858
CREATED:20260121T134242Z
LAST-MODIFIED:20260121T134243Z
UID:3746-1779811200-1779827400@gymnastikenshus.se
SUMMARY:Gymnastikträning Hall 1
DESCRIPTION:
URL:https://gymnastikenshus.se/index.php/aktivitet/gymnastiktraning-hall-1-122/
LOCATION:Hall 1
END:VEVENT
BEGIN:VEVENT
DTSTART;TZID=Europe/Helsinki:20260526T170000
DTEND;TZID=Europe/Helsinki:20260526T203000
DTSTAMP:20260420T162858
CREATED:20260121T134337Z
LAST-MODIFIED:20260126T202537Z
UID:3748-1779814800-1779827400@gymnastikenshus.se
SUMMARY:Gymnastikträning Hall 2
DESCRIPTION:
URL:https://gymnastikenshus.se/index.php/aktivitet/gymnastiktraning-hall-2-103/
LOCATION:Hall 2
END:VEVENT
BEGIN:VEVENT
DTSTART;TZID=Europe/Helsinki:20260527T100000
DTEND;TZID=Europe/Helsinki:20260527T113000
DTSTAMP:20260420T162858
CREATED:20260121T134706Z
LAST-MODIFIED:20260121T134707Z
UID:3754-1779876000-1779881400@gymnastikenshus.se
SUMMARY:Seniorgymnastik
DESCRIPTION:Seniorgymnastik AIF Gymnastik
URL:https://gymnastikenshus.se/index.php/aktivitet/seniorgymnastik-99/
LOCATION:Hall 1
END:VEVENT
BEGIN:VEVENT
DTSTART;TZID=Europe/Helsinki:20260527T150000
DTEND;TZID=Europe/Helsinki:20260527T200000
DTSTAMP:20260420T162858
CREATED:20260121T134429Z
LAST-MODIFIED:20260121T134430Z
UID:3750-1779894000-1779912000@gymnastikenshus.se
SUMMARY:Gymnastikträning Hall 1
DESCRIPTION:
URL:https://gymnastikenshus.se/index.php/aktivitet/gymnastiktraning-hall-1-123/
LOCATION:Hall 1
END:VEVENT
BEGIN:VEVENT
DTSTART;TZID=Europe/Helsinki:20260527T164500
DTEND;TZID=Europe/Helsinki:20260527T193000
DTSTAMP:20260420T162858
CREATED:20260121T134542Z
LAST-MODIFIED:20260126T205924Z
UID:3752-1779900300-1779910200@gymnastikenshus.se
SUMMARY:Gymnastikträning Hall 2
DESCRIPTION:
URL:https://gymnastikenshus.se/index.php/aktivitet/gymnastiktraning-hall-2-104/
LOCATION:Hall 2
END:VEVENT
BEGIN:VEVENT
DTSTART;TZID=Europe/Helsinki:20260528T160000
DTEND;TZID=Europe/Helsinki:20260528T220000
DTSTAMP:20260420T162858
CREATED:20260121T134756Z
LAST-MODIFIED:20260121T134757Z
UID:3756-1779984000-1780005600@gymnastikenshus.se
SUMMARY:Gymnastikträning Hall 1
DESCRIPTION:
URL:https://gymnastikenshus.se/index.php/aktivitet/gymnastiktraning-hall-1-124/
LOCATION:Hall 1
END:VEVENT
BEGIN:VEVENT
DTSTART;TZID=Europe/Helsinki:20260528T163000
DTEND;TZID=Europe/Helsinki:20260528T200000
DTSTAMP:20260420T162858
CREATED:20260121T134848Z
LAST-MODIFIED:20260121T134849Z
UID:3758-1779985800-1779998400@gymnastikenshus.se
SUMMARY:Gymnastikträning Hall 2
DESCRIPTION:
URL:https://gymnastikenshus.se/index.php/aktivitet/gymnastiktraning-hall-2-105/
LOCATION:Hall 2
END:VEVENT
BEGIN:VEVENT
DTSTART;TZID=Europe/Helsinki:20260529T153000
DTEND;TZID=Europe/Helsinki:20260529T193000
DTSTAMP:20260420T162858
CREATED:20260121T134939Z
LAST-MODIFIED:20260121T134940Z
UID:3760-1780068600-1780083000@gymnastikenshus.se
SUMMARY:Gymnastikträning Hall 1
DESCRIPTION:
URL:https://gymnastikenshus.se/index.php/aktivitet/gymnastiktraning-hall-1-125/
LOCATION:Hall 1
END:VEVENT
BEGIN:VEVENT
DTSTART;TZID=Europe/Helsinki:20260530T090000
DTEND;TZID=Europe/Helsinki:20260530T113000
DTSTAMP:20260420T162858
CREATED:20260121T135153Z
LAST-MODIFIED:20260322T051247Z
UID:3765-1780131600-1780140600@gymnastikenshus.se
SUMMARY:Gymnastikträning Hall 2
DESCRIPTION:
URL:https://gymnastikenshus.se/index.php/aktivitet/gymnastiktraning-hall-2-106/
LOCATION:Hall 2
END:VEVENT
BEGIN:VEVENT
DTSTART;TZID=Europe/Helsinki:20260530T090000
DTEND;TZID=Europe/Helsinki:20260530T170000
DTSTAMP:20260420T162858
CREATED:20260121T135105Z
LAST-MODIFIED:20260121T135106Z
UID:3763-1780131600-1780160400@gymnastikenshus.se
SUMMARY:Gymnastikträning Hall 1
DESCRIPTION:
URL:https://gymnastikenshus.se/index.php/aktivitet/gymnastiktraning-hall-1-126/
LOCATION:Hall 1
END:VEVENT
BEGIN:VEVENT
DTSTART;TZID=Europe/Helsinki:20260531T083000
DTEND;TZID=Europe/Helsinki:20260531T200000
DTSTAMP:20260420T162858
CREATED:20260121T135235Z
LAST-MODIFIED:20260121T135236Z
UID:3767-1780216200-1780257600@gymnastikenshus.se
SUMMARY:Gymnastikträning Hall 1
DESCRIPTION:
URL:https://gymnastikenshus.se/index.php/aktivitet/gymnastiktraning-hall-1-127/
LOCATION:Hall 1
END:VEVENT
BEGIN:VEVENT
DTSTART;TZID=Europe/Helsinki:20260531T100000
DTEND;TZID=Europe/Helsinki:20260531T193000
DTSTAMP:20260420T162858
CREATED:20260121T135330Z
LAST-MODIFIED:20260127T154821Z
UID:3769-1780221600-1780255800@gymnastikenshus.se
SUMMARY:Gymnastikträning Hall 2
DESCRIPTION:
URL:https://gymnastikenshus.se/index.php/aktivitet/gymnastiktraning-hall-2-107/
LOCATION:Hall 2
END:VEVENT
BEGIN:VEVENT
DTSTART;TZID=Europe/Helsinki:20260601T160000
DTEND;TZID=Europe/Helsinki:20260601T190000
DTSTAMP:20260420T162858
CREATED:20260121T140118Z
LAST-MODIFIED:20260126T154627Z
UID:3773-1780329600-1780340400@gymnastikenshus.se
SUMMARY:Gymnastikträning Hall 2
DESCRIPTION:
URL:https://gymnastikenshus.se/index.php/aktivitet/gymnastiktraning-hall-2-108/
LOCATION:Hall 2
END:VEVENT
BEGIN:VEVENT
DTSTART;TZID=Europe/Helsinki:20260601T160000
DTEND;TZID=Europe/Helsinki:20260601T220000
DTSTAMP:20260420T162858
CREATED:20260121T135935Z
LAST-MODIFIED:20260121T135936Z
UID:3771-1780329600-1780351200@gymnastikenshus.se
SUMMARY:Gymnastikträning Hall 1
DESCRIPTION:
URL:https://gymnastikenshus.se/index.php/aktivitet/gymnastiktraning-hall-1-128/
LOCATION:Hall 1
END:VEVENT
BEGIN:VEVENT
DTSTART;TZID=Europe/Helsinki:20260613T090000
DTEND;TZID=Europe/Helsinki:20260613T170000
DTSTAMP:20260420T162858
CREATED:20250912T163438Z
LAST-MODIFIED:20251104T145911Z
UID:2886-1781341200-1781370000@gymnastikenshus.se
SUMMARY:Utbildning
DESCRIPTION:
URL:https://gymnastikenshus.se/index.php/aktivitet/utbildning-8/
LOCATION:Hall 1 och Cafeterian
END:VEVENT
BEGIN:VEVENT
DTSTART;TZID=Europe/Helsinki:20260614T090000
DTEND;TZID=Europe/Helsinki:20260614T170000
DTSTAMP:20260420T162858
CREATED:20250912T163611Z
LAST-MODIFIED:20251104T145802Z
UID:2888-1781427600-1781456400@gymnastikenshus.se
SUMMARY:Utbildning
DESCRIPTION:
URL:https://gymnastikenshus.se/index.php/aktivitet/utbildning-10/
LOCATION:Hall 1 och Cafeterian
END:VEVENT
BEGIN:VEVENT
DTSTART;TZID=Europe/Helsinki:20260615T090000
DTEND;TZID=Europe/Helsinki:20260615T170000
DTSTAMP:20260420T162858
CREATED:20260401T135856Z
LAST-MODIFIED:20260401T135857Z
UID:3981-1781514000-1781542800@gymnastikenshus.se
SUMMARY:Lilla sommarlovskolan
DESCRIPTION:
URL:https://gymnastikenshus.se/index.php/aktivitet/lilla-sommarlovskolan/
LOCATION:Hall 1\, Hall 2 och Cafeterian
END:VEVENT
BEGIN:VEVENT
DTSTART;TZID=Europe/Helsinki:20260616T090000
DTEND;TZID=Europe/Helsinki:20260616T170000
DTSTAMP:20260420T162858
CREATED:20260401T140003Z
LAST-MODIFIED:20260401T140004Z
UID:3983-1781600400-1781629200@gymnastikenshus.se
SUMMARY:Lilla sommarlovskolan
DESCRIPTION:
URL:https://gymnastikenshus.se/index.php/aktivitet/lilla-sommarlovskolan-2/
LOCATION:Hall 1\, Hall 2 och Cafeterian
END:VEVENT
BEGIN:VEVENT
DTSTART;TZID=Europe/Helsinki:20260704T113000
DTEND;TZID=Europe/Helsinki:20260704T150000
DTSTAMP:20260420T162858
CREATED:20260416T074822Z
LAST-MODIFIED:20260416T074822Z
UID:4002-1783164600-1783177200@gymnastikenshus.se
SUMMARY:Barnkalas
DESCRIPTION:Uthyrt för barnkalas
URL:https://gymnastikenshus.se/index.php/aktivitet/barnkalas-34/
LOCATION:Hall 2 och Cafeterian
END:VEVENT
BEGIN:VEVENT
DTSTART;TZID=Europe/Helsinki:20260810T090000
DTEND;TZID=Europe/Helsinki:20260810T170000
DTSTAMP:20260420T162858
CREATED:20251126T132337Z
LAST-MODIFIED:20251126T132339Z
UID:3069-1786352400-1786381200@gymnastikenshus.se
SUMMARY:Lovskola
DESCRIPTION:
URL:https://gymnastikenshus.se/index.php/aktivitet/lovskola/
LOCATION:Hall 1\, Hall 2 och Cafeterian
END:VEVENT
BEGIN:VEVENT
DTSTART;TZID=Europe/Helsinki:20260811T090000
DTEND;TZID=Europe/Helsinki:20260811T170000
DTSTAMP:20260420T162858
CREATED:20251126T132448Z
LAST-MODIFIED:20251126T132449Z
UID:3071-1786438800-1786467600@gymnastikenshus.se
SUMMARY:Lovskola
DESCRIPTION:
URL:https://gymnastikenshus.se/index.php/aktivitet/lovskola-2/
LOCATION:Hall 1\, Hall 2 och Cafeterian
END:VEVENT
BEGIN:VEVENT
DTSTART;TZID=Europe/Helsinki:20260812T090000
DTEND;TZID=Europe/Helsinki:20260812T170000
DTSTAMP:20260420T162858
CREATED:20251126T132600Z
LAST-MODIFIED:20251126T132600Z
UID:3073-1786525200-1786554000@gymnastikenshus.se
SUMMARY:Lovskola
DESCRIPTION:
URL:https://gymnastikenshus.se/index.php/aktivitet/lovskola-3/
LOCATION:Hall 1\, Hall 2 och Cafeterian
END:VEVENT
BEGIN:VEVENT
DTSTART;TZID=Europe/Helsinki:20260813T090000
DTEND;TZID=Europe/Helsinki:20260813T170000
DTSTAMP:20260420T162858
CREATED:20251126T132649Z
LAST-MODIFIED:20251126T132650Z
UID:3075-1786611600-1786640400@gymnastikenshus.se
SUMMARY:Lovskola
DESCRIPTION:
URL:https://gymnastikenshus.se/index.php/aktivitet/lovskola-4/
LOCATION:Hall 1\, Hall 2 och Cafeterian
END:VEVENT
END:VCALENDAR