BEGIN:VCALENDAR
VERSION:2.0
PRODID:-//Gymnastikens Hus i Alingsås - ECPv6.15.15//NONSGML v1.0//EN
CALSCALE:GREGORIAN
METHOD:PUBLISH
X-WR-CALNAME:Gymnastikens Hus i Alingsås
X-ORIGINAL-URL:https://gymnastikenshus.se
X-WR-CALDESC:Händelser för Gymnastikens Hus i Alingsås
REFRESH-INTERVAL;VALUE=DURATION:PT1H
X-Robots-Tag:noindex
X-PUBLISHED-TTL:PT1H
BEGIN:VTIMEZONE
TZID:Europe/Helsinki
BEGIN:DAYLIGHT
TZOFFSETFROM:+0200
TZOFFSETTO:+0300
TZNAME:EEST
DTSTART:20250330T010000
END:DAYLIGHT
BEGIN:STANDARD
TZOFFSETFROM:+0300
TZOFFSETTO:+0200
TZNAME:EET
DTSTART:20251026T010000
END:STANDARD
BEGIN:DAYLIGHT
TZOFFSETFROM:+0200
TZOFFSETTO:+0300
TZNAME:EEST
DTSTART:20260329T010000
END:DAYLIGHT
BEGIN:STANDARD
TZOFFSETFROM:+0300
TZOFFSETTO:+0200
TZNAME:EET
DTSTART:20261025T010000
END:STANDARD
BEGIN:DAYLIGHT
TZOFFSETFROM:+0200
TZOFFSETTO:+0300
TZNAME:EEST
DTSTART:20270328T010000
END:DAYLIGHT
BEGIN:STANDARD
TZOFFSETFROM:+0300
TZOFFSETTO:+0200
TZNAME:EET
DTSTART:20271031T010000
END:STANDARD
END:VTIMEZONE
BEGIN:VEVENT
DTSTART;TZID=Europe/Helsinki:20260601T160000
DTEND;TZID=Europe/Helsinki:20260601T190000
DTSTAMP:20260420T143805
CREATED:20260121T140118Z
LAST-MODIFIED:20260126T154627Z
UID:3773-1780329600-1780340400@gymnastikenshus.se
SUMMARY:Gymnastikträning Hall 2
DESCRIPTION:
URL:https://gymnastikenshus.se/index.php/aktivitet/gymnastiktraning-hall-2-108/
LOCATION:Hall 2
END:VEVENT
BEGIN:VEVENT
DTSTART;TZID=Europe/Helsinki:20260601T160000
DTEND;TZID=Europe/Helsinki:20260601T220000
DTSTAMP:20260420T143805
CREATED:20260121T135935Z
LAST-MODIFIED:20260121T135936Z
UID:3771-1780329600-1780351200@gymnastikenshus.se
SUMMARY:Gymnastikträning Hall 1
DESCRIPTION:
URL:https://gymnastikenshus.se/index.php/aktivitet/gymnastiktraning-hall-1-128/
LOCATION:Hall 1
END:VEVENT
BEGIN:VEVENT
DTSTART;TZID=Europe/Helsinki:20260613T090000
DTEND;TZID=Europe/Helsinki:20260613T170000
DTSTAMP:20260420T143805
CREATED:20250912T163438Z
LAST-MODIFIED:20251104T145911Z
UID:2886-1781341200-1781370000@gymnastikenshus.se
SUMMARY:Utbildning
DESCRIPTION:
URL:https://gymnastikenshus.se/index.php/aktivitet/utbildning-8/
LOCATION:Hall 1 och Cafeterian
END:VEVENT
BEGIN:VEVENT
DTSTART;TZID=Europe/Helsinki:20260614T090000
DTEND;TZID=Europe/Helsinki:20260614T170000
DTSTAMP:20260420T143805
CREATED:20250912T163611Z
LAST-MODIFIED:20251104T145802Z
UID:2888-1781427600-1781456400@gymnastikenshus.se
SUMMARY:Utbildning
DESCRIPTION:
URL:https://gymnastikenshus.se/index.php/aktivitet/utbildning-10/
LOCATION:Hall 1 och Cafeterian
END:VEVENT
BEGIN:VEVENT
DTSTART;TZID=Europe/Helsinki:20260615T090000
DTEND;TZID=Europe/Helsinki:20260615T170000
DTSTAMP:20260420T143805
CREATED:20260401T135856Z
LAST-MODIFIED:20260401T135857Z
UID:3981-1781514000-1781542800@gymnastikenshus.se
SUMMARY:Lilla sommarlovskolan
DESCRIPTION:
URL:https://gymnastikenshus.se/index.php/aktivitet/lilla-sommarlovskolan/
LOCATION:Hall 1\, Hall 2 och Cafeterian
END:VEVENT
BEGIN:VEVENT
DTSTART;TZID=Europe/Helsinki:20260616T090000
DTEND;TZID=Europe/Helsinki:20260616T170000
DTSTAMP:20260420T143805
CREATED:20260401T140003Z
LAST-MODIFIED:20260401T140004Z
UID:3983-1781600400-1781629200@gymnastikenshus.se
SUMMARY:Lilla sommarlovskolan
DESCRIPTION:
URL:https://gymnastikenshus.se/index.php/aktivitet/lilla-sommarlovskolan-2/
LOCATION:Hall 1\, Hall 2 och Cafeterian
END:VEVENT
END:VCALENDAR